BEGIN:VCALENDAR
VERSION:2.0
PRODID:-//Contratero//ES
CALSCALE:GREGORIAN
METHOD:PUBLISH
BEGIN:VEVENT
UID:2/2022 AB (SG/DSP)@contratero.es
DTSTAMP:20260419T205945Z
DTSTART:20220426T235959
DTEND:20220427T005959
SUMMARY:Cierre: Servicio de análisis de tráfico de red inteligente
DESCRIPTION:Servicio de análisis de tráfico de red inteligente para el CDTI\, E.P.E\\n\\nOrganismo: Dirección General del Centro para el Desarrollo Tecnológico y la Innovación\, E.P.E\\n\\nVer en Contratero: https://contratero.es/contracts/2/2022 AB (SG/DSP)
URL:https://contratero.es/contracts/2/2022 AB (SG/DSP)
STATUS:CONFIRMED
BEGIN:VALARM
TRIGGER:-P1D
ACTION:DISPLAY
DESCRIPTION:Recordatorio: Servicio de análisis de tráfic
END:VALARM
END:VEVENT
END:VCALENDAR